BEGIN:VCALENDAR
VERSION:2.0
PRODID:-//Tukios.com/
BEGIN:VEVENT
UID:2df3a3c6-56fe-40a9-83d1-a3c23fe10547@www.allenfh.com
DTSTAMP:20260420T211441Z
DTSTART:20260423T190000Z
DTEND:20260423T200000Z
SUMMARY:Graveside Service
DESCRIPTION:
URL:https://www.allenfh.com/obituaries/alma-beavans
LOCATION:Sasser Cemetery Faithful Lane (off Ulmer Rd)  Whigham GA 39897
GEO:30.8309027;-84.2750957
END:VEVENT
END:VCALENDAR