BEGIN:VCALENDAR
VERSION:2.0
PRODID:-//Tukios.com/
BEGIN:VEVENT
UID:b156af0f-aaf6-4173-86ef-cb7b0e78c7fc@www.allenfh.com
DTSTAMP:20260424T213624Z
DTSTART:20260426T200000Z
DTEND:20260426T210000Z
SUMMARY:Celebration of Life
DESCRIPTION:
URL:https://www.allenfh.com/obituaries/ashley-de-los-santos-corona
LOCATION: 12748 U.S. 19  Thomasville GA 31757
GEO:30.824801;-83.940254
END:VEVENT
END:VCALENDAR