BEGIN:VCALENDAR
VERSION:2.0
PRODID:-//Tukios.com/
BEGIN:VEVENT
UID:3b886aa7-8b98-45be-8f7c-4423e0e09ca3@www.allenfh.com
DTSTAMP:20260423T232400Z
DTSTART:20260506T150000Z
DTEND:20260506T160000Z
SUMMARY:Funeral Service
DESCRIPTION:
URL:https://www.allenfh.com/obituaries/patricia-scott
LOCATION: 110 W. Hansell Street  Thomasville GA 31792
GEO:30.8306443;-83.9749975
END:VEVENT
END:VCALENDAR