BEGIN:VCALENDAR
VERSION:2.0
PRODID:-//Tukios.com/
BEGIN:VEVENT
UID:ab1863e2-3a2b-4c10-9136-39b2b9d4106d@www.allenfh.com
DTSTAMP:20260425T223306Z
DTSTART:20260427T170000Z
DTEND:20260427T180000Z
SUMMARY:Visitation
DESCRIPTION:
URL:https://www.allenfh.com/obituaries/rebecca-floyd
LOCATION:Allen & Allen Funeral Home 110 W. Hansell Street  Thomasville GA 
	31792
GEO:30.8306443;-83.9749975
END:VEVENT
END:VCALENDAR