BEGIN:VCALENDAR
VERSION:2.0
PRODID:-//Tukios.com/
BEGIN:VEVENT
UID:72da264c-34ec-49e6-b148-27759f7a87d7@www.allenfh.com
DTSTAMP:20260425T223014Z
DTSTART:20260427T180000Z
DTEND:20260427T190000Z
SUMMARY:Memorial Service
DESCRIPTION:
URL:https://www.allenfh.com/obituaries/rebecca-floyd
LOCATION:Allen & Allen Funeral Home 110 W. Hansell Street  Thomasville GA 
	31792
GEO:30.8306443;-83.9749975
END:VEVENT
END:VCALENDAR